BEGIN:VCALENDAR
VERSION:2.0
PRODID:-//Sabre//Sabre VObject 3.5.3//EN
CALSCALE:GREGORIAN
BEGIN:VTIMEZONE
TZID:Europe/London
BEGIN:STANDARD
TZNAME:GMT
DTSTART:19701025T020000
RRULE:FREQ=YEARLY;BYMONTH=10;BYDAY=-1SU
TZOFFSETFROM:+0100
TZOFFSETTO:+0000
END:STANDARD
BEGIN:DAYLIGHT
TZNAME:BST
DTSTART:19700329T010000
RRULE:FREQ=YEARLY;BYMONTH=3;BYDAY=-1SU
TZOFFSETFROM:+0000
TZOFFSETTO:+0100
END:DAYLIGHT
END:VTIMEZONE
BEGIN:VEVENT
UID:event_205069@hurstgreensingers.co.uk
DTSTART;TZID=Europe/London:20260516T193000
DTEND;TZID=Europe/London:20260516T213000
SUMMARY:Summer Concert
DESCRIPTION:Jamie's return concert after his sabbatical will see us perform
  Mozart's Requiem and Haydn's Insanae et Vanae Curae\, two of the best-lov
 ed pieces in the choral repertoire.\n\nFor full event details\, visit: htt
 ps://www.hurstgreensingers.co.uk/dbpage.php?pg=view&dbase=events&id=205069
LOCATION:Bawtree Hall\, Hazelwood School\, Wolfs Hill\, Limpsfield\, RH8 0Q
 U
URL:https://www.hurstgreensingers.co.uk/dbpage.php?pg=view&dbase=events&id=
 205069
END:VEVENT
END:VCALENDAR
